BEGIN:VCALENDAR
VERSION:2.0
PRODID:-//Talento Valladolid - ECPv6.13.2.1//NONSGML v1.0//EN
CALSCALE:GREGORIAN
METHOD:PUBLISH
X-ORIGINAL-URL:https://talentovalladolid.com
X-WR-CALDESC:Eventos para Talento Valladolid
REFRESH-INTERVAL;VALUE=DURATION:PT1H
X-Robots-Tag:noindex
X-PUBLISHED-TTL:PT1H
BEGIN:VTIMEZONE
TZID:Europe/Madrid
BEGIN:DAYLIGHT
TZOFFSETFROM:+0100
TZOFFSETTO:+0200
TZNAME:CEST
DTSTART:20250330T010000
END:DAYLIGHT
BEGIN:STANDARD
TZOFFSETFROM:+0200
TZOFFSETTO:+0100
TZNAME:CET
DTSTART:20251026T010000
END:STANDARD
END:VTIMEZONE
BEGIN:VEVENT
DTSTART;TZID=Europe/Madrid:20250124T080000
DTEND;TZID=Europe/Madrid:20250124T090000
DTSTAMP:20260420T092108
CREATED:20250120T161918Z
LAST-MODIFIED:20250603T111753Z
UID:4308-1737705600-1737709200@talentovalladolid.com
SUMMARY:Desayuno ‘Valladolid Emprende Talento’
DESCRIPTION:Dentro de Talento Valladolid\, programa impulsado desde el Ayuntamiento de Valladolid\, a través de su Agencia de Innovación y Desarrollo Económico de Valladolid (IDEVA)\, y la Fundación Universidad de Valladolid\, una de las actividades organizadas dentro son los desayunos ‘Valladolid Emprende Talento’. \n☕ Retomamos en 2025 este encuentro mensual entre emprendedores\, startups innovadoras y tecnológicas y empresas locales que tendrá lugar el próximo viernes 24 con Emiliano Pérez Ansaldi\, Senior eCommerce Manager. \n¿Sabes que las búsquedas en Google siguen siendo parte de más del 60% de las primeras intenciones de compra? \nCómo usar correctamente ese 60% para activar campañas de Google Ads que sean rentables\, ya es otra historia. \nNuestro invitado te contará qué tipos de campaña y para qué productos o servicios se pueden activar y gestionarlas de forma exitosa. \nEmiliano Pérez Ansaldi es licenciado en Diseño Gráfico y Publicidad por la Universidad de Buenos Aires. Su carrera profesional ha estado vinculada al mundo del marketing y la tecnología\, y ha trabajado para agencias de Argentina\, Estados Unidos y España. \nA continuación\, disfrutaremos de un café-networking\, para que puedas conocer al resto de asistentes e intercambiar inquietudes\, necesidades\, retos\, etc. \n📅 Viernes 24 de enero\n⌚ 8.00 a 9.15 a.m.\n🏢 Edificio I+D/UVainnova -Sala Naranja- (Campus Miguel Delibes. Paseo de Belén\, 11. Valladolid)
URL:https://talentovalladolid.com/evento/desayuno-valladolid-emprende-talento-2/
LOCATION:Edificio UVaInnova\, Paseo de Belén\, 11\, Valladolid\, Valladolid\, 47011\, España
CATEGORIES:Desayuno
ATTACH;FMTTYPE=image/jpeg:https://talentovalladolid.com/wp-content/uploads/2025/01/20250124_DesayunoEmilianoPerez.jpg
END:VEVENT
END:VCALENDAR