BEGIN:VCALENDAR
VERSION:2.0
PRODID:-//Talento Valladolid - ECPv6.13.2.1//NONSGML v1.0//EN
CALSCALE:GREGORIAN
METHOD:PUBLISH
X-ORIGINAL-URL:https://talentovalladolid.com
X-WR-CALDESC:Eventos para Talento Valladolid
REFRESH-INTERVAL;VALUE=DURATION:PT1H
X-Robots-Tag:noindex
X-PUBLISHED-TTL:PT1H
BEGIN:VTIMEZONE
TZID:Europe/Madrid
BEGIN:DAYLIGHT
TZOFFSETFROM:+0100
TZOFFSETTO:+0200
TZNAME:CEST
DTSTART:20250330T010000
END:DAYLIGHT
BEGIN:STANDARD
TZOFFSETFROM:+0200
TZOFFSETTO:+0100
TZNAME:CET
DTSTART:20251026T010000
END:STANDARD
END:VTIMEZONE
BEGIN:VEVENT
DTSTART;TZID=Europe/Madrid:20250228T080000
DTEND;TZID=Europe/Madrid:20250228T091500
DTSTAMP:20260420T074644
CREATED:20250211T100022Z
LAST-MODIFIED:20250211T100022Z
UID:4439-1740729600-1740734100@talentovalladolid.com
SUMMARY:Desayuno ‘Valladolid Emprende Talento’
DESCRIPTION:¿Sabías que la inteligencia emocional es clave para el éxito en los proyectos emprendedores? \nAprende a gestionar tus emociones\, potenciar habilidades y tomar decisiones estratégicas para tu negocio en un nuevo desayuno ‘Valladolid Emprende Talento’. \nAbordaremos este tema enseñarte a descubrir competencias transversales y a promover actitudes que maximicen los resultados del proyecto así como tu propio equilibrio emocional. \nEn febrero\, este encuentro mensual entre emprendedores\, startups innovadoras y tecnológicas y empresas locales tendrá lugar el próximo viernes 28 con Pablo Villanueva Alonso\, coach senior. \nA continuación\, disfrutaremos de un café-networking\, para que los asistentes se puedan conocer así como intercambiar inquietudes\, necesidades\, retos\, etc. \n📅 Viernes 28 de febrero\n⌚ 8.00 a 9.15 a.m.\n🏢 Edificio I+D/UVainnova -Sala Naranja- (Campus Miguel Delibes. Paseo de Belén\, 11. Valladolid) \nEste desayuno forma parte de Talento Valladolid\, programa impulsado desde el Ayuntamiento de Valladolid\, a través de su Agencia de Innovación y Desarrollo Económico de Valladolid (IdeVa)\, y la Fundación Universidad de Valladolid.
URL:https://talentovalladolid.com/evento/desayuno-valladolid-emprende-talento-3/
LOCATION:Edificio UVaInnova\, Paseo de Belén\, 11\, Valladolid\, Valladolid\, 47011\, España
CATEGORIES:Desayuno
ATTACH;FMTTYPE=image/png:https://talentovalladolid.com/wp-content/uploads/2025/02/20240228_PabloVillanueva.png
END:VEVENT
END:VCALENDAR